BEGIN:VCALENDAR
VERSION:2.0
PRODID:-//AÏE AÏE AÏE / Collectif d&#039;artistes - ECPv4.9.3.2//NONSGML v1.0//EN
CALSCALE:GREGORIAN
METHOD:PUBLISH
X-WR-CALNAME:AÏE AÏE AÏE / Collectif d&#039;artistes
X-ORIGINAL-URL:https://www.aieaieaie.fr
X-WR-CALDESC:Évènements pour AÏE AÏE AÏE / Collectif d&#039;artistes
BEGIN:VEVENT
DTSTART;VALUE=DATE:20180223
DTEND;VALUE=DATE:20180224
DTSTAMP:20260425T103759
CREATED:20190528T104436Z
LAST-MODIFIED:20190528T104436Z
UID:1167-1519344000-1519430399@www.aieaieaie.fr
SUMMARY:ERSATZ
DESCRIPTION:
URL:https://www.aieaieaie.fr/event/ersatz-30/
LOCATION:THÉÂTRE DES TROIS CHÊNES\, LOIRON\, 53320
CATEGORIES:Ersatz
END:VEVENT
END:VCALENDAR