BEGIN:VCALENDAR
VERSION:2.0
PRODID:-//AÏE AÏE AÏE / Collectif d&#039;artistes - ECPv4.9.3.2//NONSGML v1.0//EN
CALSCALE:GREGORIAN
METHOD:PUBLISH
X-WR-CALNAME:AÏE AÏE AÏE / Collectif d&#039;artistes
X-ORIGINAL-URL:https://www.aieaieaie.fr
X-WR-CALDESC:Évènements pour AÏE AÏE AÏE / Collectif d&#039;artistes
BEGIN:VEVENT
DTSTART;VALUE=DATE:20220407
DTEND;VALUE=DATE:20220409
DTSTAMP:20260421T104013
CREATED:20220316T143012Z
LAST-MODIFIED:20220316T143012Z
UID:3408-1649289600-1649462399@www.aieaieaie.fr
SUMMARY:ERSATZ V1
DESCRIPTION:
URL:https://www.aieaieaie.fr/event/ersatz-v1-21/
LOCATION:THÉÂTRE MASSALIA\, LA FRICHE DE LA BELLE DE MAI 41 rue Jobin\, MARSEILLE\, 13003
CATEGORIES:Ersatz
END:VEVENT
END:VCALENDAR