BEGIN:VCALENDAR
VERSION:2.0
PRODID:-//AÏE AÏE AÏE / Collectif d&#039;artistes - ECPv4.9.3.2//NONSGML v1.0//EN
CALSCALE:GREGORIAN
METHOD:PUBLISH
X-WR-CALNAME:AÏE AÏE AÏE / Collectif d&#039;artistes
X-ORIGINAL-URL:https://www.aieaieaie.fr
X-WR-CALDESC:Évènements pour AÏE AÏE AÏE / Collectif d&#039;artistes
BEGIN:VEVENT
DTSTART;VALUE=DATE:20230608
DTEND;VALUE=DATE:20230609
DTSTAMP:20260421T112230
CREATED:20230323T142012Z
LAST-MODIFIED:20230525T125737Z
UID:4085-1686182400-1686268799@www.aieaieaie.fr
SUMMARY:ERSATZ V1
DESCRIPTION:
URL:https://www.aieaieaie.fr/event/ersatz-v1-31/
LOCATION:LJUBLJANA PUPPET THEATRE\, Krekov trg 2\, LJUBLJANA (SLOVENIA)
CATEGORIES:Ersatz
END:VEVENT
END:VCALENDAR