BEGIN:VCALENDAR
VERSION:2.0
PRODID:-//AÏE AÏE AÏE / Collectif d&#039;artistes - ECPv4.9.3.2//NONSGML v1.0//EN
CALSCALE:GREGORIAN
METHOD:PUBLISH
X-WR-CALNAME:AÏE AÏE AÏE / Collectif d&#039;artistes
X-ORIGINAL-URL:https://www.aieaieaie.fr
X-WR-CALDESC:Évènements pour AÏE AÏE AÏE / Collectif d&#039;artistes
BEGIN:VEVENT
DTSTART;VALUE=DATE:20211005
DTEND;VALUE=DATE:20211007
DTSTAMP:20260421T111919
CREATED:20210616T090719Z
LAST-MODIFIED:20210616T090819Z
UID:2957-1633392000-1633564799@www.aieaieaie.fr
SUMMARY:ERSATZ V1
DESCRIPTION:
URL:https://www.aieaieaie.fr/event/ersatz-v1-7/
LOCATION:ABC DIJON\, ATHENEUM - Université de Bourgogne - Espl. Erasme\, DIJON\, 21000
CATEGORIES:Ersatz
END:VEVENT
END:VCALENDAR