BEGIN:VCALENDAR
VERSION:2.0
PRODID:-//AÏE AÏE AÏE / Collectif d&#039;artistes - ECPv4.9.3.2//NONSGML v1.0//EN
CALSCALE:GREGORIAN
METHOD:PUBLISH
X-WR-CALNAME:AÏE AÏE AÏE / Collectif d&#039;artistes
X-ORIGINAL-URL:https://www.aieaieaie.fr
X-WR-CALDESC:Évènements pour AÏE AÏE AÏE / Collectif d&#039;artistes
BEGIN:VEVENT
DTSTART;VALUE=DATE:20230512
DTEND;VALUE=DATE:20230513
DTSTAMP:20260421T125655
CREATED:20230323T134917Z
LAST-MODIFIED:20230323T135858Z
UID:4069-1683849600-1683935999@www.aieaieaie.fr
SUMMARY:ERSATZ V2
DESCRIPTION:
URL:https://www.aieaieaie.fr/event/ersatz-v2-9/
LOCATION:Theatre Salz + Pfeffer\, Frauentorgraben 73\, Nüremberg (DE)
CATEGORIES:Ersatz
END:VEVENT
END:VCALENDAR