BEGIN:VCALENDAR
VERSION:2.0
PRODID:-//AÏE AÏE AÏE / Collectif d&#039;artistes - ECPv4.9.3.2//NONSGML v1.0//EN
CALSCALE:GREGORIAN
METHOD:PUBLISH
X-WR-CALNAME:AÏE AÏE AÏE / Collectif d&#039;artistes
X-ORIGINAL-URL:https://www.aieaieaie.fr
X-WR-CALDESC:Évènements pour AÏE AÏE AÏE / Collectif d&#039;artistes
BEGIN:VEVENT
DTSTART;VALUE=DATE:20190308
DTEND;VALUE=DATE:20190309
DTSTAMP:20260422T220501
CREATED:20190528T211736Z
LAST-MODIFIED:20190528T211736Z
UID:1354-1552003200-1552089599@www.aieaieaie.fr
SUMMARY:FULMINE
DESCRIPTION:
URL:https://www.aieaieaie.fr/event/fulmine-11/
LOCATION:RELAIS CULTUREL\, THANN\, 68334
CATEGORIES:FULMINE
END:VEVENT
END:VCALENDAR