BEGIN:VCALENDAR
VERSION:2.0
PRODID:-//AÏE AÏE AÏE / Collectif d&#039;artistes - ECPv4.9.3.2//NONSGML v1.0//EN
CALSCALE:GREGORIAN
METHOD:PUBLISH
X-WR-CALNAME:AÏE AÏE AÏE / Collectif d&#039;artistes
X-ORIGINAL-URL:https://www.aieaieaie.fr
X-WR-CALDESC:Évènements pour AÏE AÏE AÏE / Collectif d&#039;artistes
BEGIN:VEVENT
DTSTART;VALUE=DATE:20170926
DTEND;VALUE=DATE:20170929
DTSTAMP:20260425T144136
CREATED:20190528T205500Z
LAST-MODIFIED:20190528T205926Z
UID:1317-1506384000-1506643199@www.aieaieaie.fr
SUMMARY:FULMINE
DESCRIPTION:
URL:https://www.aieaieaie.fr/event/fulmine/
LOCATION:CENTRE DRAMATIQUE NATIONAL\, ANGERS\, 49000
CATEGORIES:FULMINE
END:VEVENT
END:VCALENDAR