BEGIN:VCALENDAR
VERSION:2.0
PRODID:-//AÏE AÏE AÏE / Collectif d&#039;artistes - ECPv4.9.3.2//NONSGML v1.0//EN
CALSCALE:GREGORIAN
METHOD:PUBLISH
X-WR-CALNAME:AÏE AÏE AÏE / Collectif d&#039;artistes
X-ORIGINAL-URL:https://www.aieaieaie.fr
X-WR-CALDESC:Évènements pour AÏE AÏE AÏE / Collectif d&#039;artistes
BEGIN:VEVENT
DTSTART;VALUE=DATE:20150607
DTEND;VALUE=DATE:20150608
DTSTAMP:20260425T152811
CREATED:20251006T152317Z
LAST-MODIFIED:20251006T152317Z
UID:5324-1433635200-1433721599@www.aieaieaie.fr
SUMMARY:MA BICHE ET MON LAPIN
DESCRIPTION:
URL:https://www.aieaieaie.fr/event/ma-biche-et-mon-lapin-49/
LOCATION:PARCOURSTOUTCOURT / BIENNALE TRANSVERSALE\, KERGUÉHENNEC\, 56000
CATEGORIES:Ma biche et mon lapin
END:VEVENT
END:VCALENDAR