BEGIN:VCALENDAR
VERSION:2.0
PRODID:-//AÏE AÏE AÏE / Collectif d&#039;artistes - ECPv4.9.3.2//NONSGML v1.0//EN
CALSCALE:GREGORIAN
METHOD:PUBLISH
X-WR-CALNAME:AÏE AÏE AÏE / Collectif d&#039;artistes
X-ORIGINAL-URL:https://www.aieaieaie.fr
X-WR-CALDESC:Évènements pour AÏE AÏE AÏE / Collectif d&#039;artistes
BEGIN:VEVENT
DTSTART;VALUE=DATE:20150513
DTEND;VALUE=DATE:20150517
DTSTAMP:20260425T183514
CREATED:20251006T152644Z
LAST-MODIFIED:20251006T152644Z
UID:5333-1431475200-1431820799@www.aieaieaie.fr
SUMMARY:MA BICHE ET MON LAPIN
DESCRIPTION:
URL:https://www.aieaieaie.fr/event/ma-biche-et-mon-lapin-52/
LOCATION:LE SÉCHOIR / SCÈNE CONVENTIONNÉE\, 209 rue du Général Lambert\, Saint-Leu (ÎLE DE LA RÉUNION)\, 97 436
CATEGORIES:Ma biche et mon lapin
END:VEVENT
END:VCALENDAR