BEGIN:VCALENDAR
VERSION:2.0
PRODID:-//AÏE AÏE AÏE / Collectif d&#039;artistes - ECPv4.9.3.2//NONSGML v1.0//EN
CALSCALE:GREGORIAN
METHOD:PUBLISH
X-WR-CALNAME:AÏE AÏE AÏE / Collectif d&#039;artistes
X-ORIGINAL-URL:https://www.aieaieaie.fr
X-WR-CALDESC:Évènements pour AÏE AÏE AÏE / Collectif d&#039;artistes
BEGIN:VEVENT
DTSTART;VALUE=DATE:20230317
DTEND;VALUE=DATE:20230318
DTSTAMP:20260425T113844
CREATED:20221004T131153Z
LAST-MODIFIED:20221014T083112Z
UID:3663-1679011200-1679097599@www.aieaieaie.fr
SUMMARY:MUESLI
DESCRIPTION:
URL:https://www.aieaieaie.fr/event/muesli/
LOCATION:LE CARRÉ / SCÈNE NATIONALE\, Théâtre des Ursulines\, 4 bis rue Horeau\, CHÂTEAU-GONTIER\, 53200
CATEGORIES:Muesli
END:VEVENT
END:VCALENDAR