BEGIN:VCALENDAR
VERSION:2.0
PRODID:-//AÏE AÏE AÏE / Collectif d&#039;artistes - ECPv4.9.3.2//NONSGML v1.0//EN
CALSCALE:GREGORIAN
METHOD:PUBLISH
X-WR-CALNAME:AÏE AÏE AÏE / Collectif d&#039;artistes
X-ORIGINAL-URL:https://www.aieaieaie.fr
X-WR-CALDESC:Évènements pour AÏE AÏE AÏE / Collectif d&#039;artistes
BEGIN:VEVENT
DTSTART;VALUE=DATE:20230128
DTEND;VALUE=DATE:20230130
DTSTAMP:20260421T012256
CREATED:20220902T082545Z
LAST-MODIFIED:20221017T130416Z
UID:3577-1674864000-1675036799@www.aieaieaie.fr
SUMMARY:POUPOULE
DESCRIPTION:
URL:https://www.aieaieaie.fr/event/poupoule-10/
LOCATION:CITÉ DE LA MUSIQUE\, 221 avenue Jean-Jaurès\, PARIS\, 75019
CATEGORIES:Poupoule
END:VEVENT
END:VCALENDAR