BEGIN:VCALENDAR
VERSION:2.0
PRODID:-//AÏE AÏE AÏE / Collectif d&#039;artistes - ECPv4.9.3.2//NONSGML v1.0//EN
CALSCALE:GREGORIAN
METHOD:PUBLISH
X-WR-CALNAME:AÏE AÏE AÏE / Collectif d&#039;artistes
X-ORIGINAL-URL:https://www.aieaieaie.fr
X-WR-CALDESC:Évènements pour AÏE AÏE AÏE / Collectif d&#039;artistes
BEGIN:VEVENT
DTSTART;VALUE=DATE:20210311
DTEND;VALUE=DATE:20210312
DTSTAMP:20260421T030430
CREATED:20200707T103950Z
LAST-MODIFIED:20210315T193656Z
UID:2159-1615420800-1615507199@www.aieaieaie.fr
SUMMARY:SUPERGRAVITÉ
DESCRIPTION:
URL:https://www.aieaieaie.fr/event/supergravite-3/
LOCATION:THÉÂTRE JEAN ARP / FESTIVAL MAR.T.O.\, 2 Rue Paul Vaillant Couturier\, CLAMART\, 92140
CATEGORIES:SUPERGRAVITÉ
END:VEVENT
END:VCALENDAR