BEGIN:VCALENDAR
VERSION:2.0
PRODID:-//AÏE AÏE AÏE / Collectif d&#039;artistes - ECPv4.9.3.2//NONSGML v1.0//EN
CALSCALE:GREGORIAN
METHOD:PUBLISH
X-WR-CALNAME:AÏE AÏE AÏE / Collectif d&#039;artistes
X-ORIGINAL-URL:https://www.aieaieaie.fr
X-WR-CALDESC:Évènements pour AÏE AÏE AÏE / Collectif d&#039;artistes
BEGIN:VEVENT
DTSTART;VALUE=DATE:20220125
DTEND;VALUE=DATE:20220126
DTSTAMP:20260421T131556
CREATED:20210618T132559Z
LAST-MODIFIED:20220126T084827Z
UID:2996-1643068800-1643155199@www.aieaieaie.fr
SUMMARY:SUPERGRAVITÉ
DESCRIPTION:
URL:https://www.aieaieaie.fr/event/supergravite-5/
LOCATION:L’HEXAGONE\, SCÈNE NATIONALE ARTS SCIENCES\, 24 rue des Aiguinards\, Meylan\, 38242
CATEGORIES:SUPERGRAVITÉ
END:VEVENT
END:VCALENDAR